BEGIN:VCALENDAR
VERSION:2.0
PRODID:-//JP EDŠ d.o.o. - ECPv6.15.20//NONSGML v1.0//EN
CALSCALE:GREGORIAN
METHOD:PUBLISH
X-ORIGINAL-URL:https://jp-eds.si
X-WR-CALDESC:Dogodki za JP EDŠ d.o.o.
REFRESH-INTERVAL;VALUE=DURATION:PT1H
X-Robots-Tag:noindex
X-PUBLISHED-TTL:PT1H
BEGIN:VTIMEZONE
TZID:Europe/Ljubljana
BEGIN:DAYLIGHT
TZOFFSETFROM:+0100
TZOFFSETTO:+0200
TZNAME:CEST
DTSTART:20240331T010000
END:DAYLIGHT
BEGIN:STANDARD
TZOFFSETFROM:+0200
TZOFFSETTO:+0100
TZNAME:CET
DTSTART:20241027T010000
END:STANDARD
BEGIN:DAYLIGHT
TZOFFSETFROM:+0100
TZOFFSETTO:+0200
TZNAME:CEST
DTSTART:20250330T010000
END:DAYLIGHT
BEGIN:STANDARD
TZOFFSETFROM:+0200
TZOFFSETTO:+0100
TZNAME:CET
DTSTART:20251026T010000
END:STANDARD
BEGIN:DAYLIGHT
TZOFFSETFROM:+0100
TZOFFSETTO:+0200
TZNAME:CEST
DTSTART:20260329T010000
END:DAYLIGHT
BEGIN:STANDARD
TZOFFSETFROM:+0200
TZOFFSETTO:+0100
TZNAME:CET
DTSTART:20261025T010000
END:STANDARD
END:VTIMEZONE
BEGIN:VEVENT
DTSTART;TZID=Europe/Ljubljana:20250412T080000
DTEND;TZID=Europe/Ljubljana:20250412T123000
DTSTAMP:20260424T073345
CREATED:20250402T104718Z
LAST-MODIFIED:20250402T104718Z
UID:736-1744444800-1744461000@jp-eds.si
SUMMARY:POMLADNI SEJEM
DESCRIPTION:Šentjernejski sejem ima več kot sto letno tradicijo\, kjer se je na svojevrsten način ohranjajo trgovanje. \nSeveda je sejem tudi priložnost druženja in klepeta\, nakupi se nujne stvari in spije kakšen kozarček. \nPrvi letošnji veliki POMLADNO – VELIKONOČNI SEJEM bo v soboto\, 12. 4. 2025 v dopoldanskem času. \nZa pravo sejemsko vzdušje bosta poskrbela Dolenjska fanta\, zapeli bodo člani mešanega pevskega zbora Društva upokojencev Šentjernej\, predstavili pa se bodo tudi mladi glasbeniki družine Frančič. Za otroke pripravljamo velikonočno delavnico. \nVljudno vabljeni tudi k sodelovanju v izmenjevalnici\, ki jo pripravljamo skupaj s Knjižnico Mirana Jarca Novo mesto – oddelek Šentjernej. \nPomad je tudi čas za prevetritev doma. V duhu recikliranja in ponovne uporabe\, bomo v sodelovanju s Knjižnico Šentjernej in domačimi skavti izvedli prvo »izmenjevalnico«. Želimo spodbuditi vse občane in druge obiskovalce\, da ob tej priložnosti zamenjajo predmete iz gospodinjstva\, ki so še uporabni\, čisti in delujoči. Na tak način bomo skupaj prispevali kamenček v mozaiku zdravega in lepega planeta. \nKAJ VSE PRIDE V POŠTEV? \nZavoljo ohranitve reda\, vas prosimo\, da na sejemsko izmenjevalnico prinesete le reči\, ki jih želite podariti\, oddati ali zamenjati. Mednje sodijo lahko: igrače\, otroška oprema ter oprema za dom in gospodinjstvo\, modni dodatki\, knjige\, revije\, oprema za hišne ljubljenčke\, sadike in semena ter ostali uporabni predmeti doma. Prinesene predmete bomo pregledali – ti morajo biti oprani/očiščeni in lepo ohranjeni\, v nasprotnem primeru jih bomo zavrnili. Zaželeno je\, da nekaj prinesete in ravno tako tudi odnesete. V zadnji uri bo mogoče stvari odnesti tudi brez izmenjave. \nProsimo\, da v izmenjevalnico ne nosite oblačil in obutve\, večjih kosov za opremo doma in predmetov\, ki so potrebni popravila. Vse to bomo morali zavrniti. \nSejem bo živ\, vabljeni\, da se ga udeležite! \nVstopnine ni!
URL:https://jp-eds.si/dogodek/pomladni-sejem/
CATEGORIES:druženje,izpostavljeno,kulinarika,nakupovanje,sejem,zabava
ATTACH;FMTTYPE=image/jpeg:https://jp-eds.si/wp-content/uploads/Sejem-CL-5.jpg
END:VEVENT
END:VCALENDAR