BEGIN:VCALENDAR
VERSION:2.0
PRODID:-//JP EDŠ d.o.o. - ECPv6.15.20//NONSGML v1.0//EN
CALSCALE:GREGORIAN
METHOD:PUBLISH
X-WR-CALNAME:JP EDŠ d.o.o.
X-ORIGINAL-URL:https://jp-eds.si
X-WR-CALDESC:Dogodki za JP EDŠ d.o.o.
REFRESH-INTERVAL;VALUE=DURATION:PT1H
X-Robots-Tag:noindex
X-PUBLISHED-TTL:PT1H
BEGIN:VTIMEZONE
TZID:Europe/Ljubljana
BEGIN:DAYLIGHT
TZOFFSETFROM:+0100
TZOFFSETTO:+0200
TZNAME:CEST
DTSTART:20240331T010000
END:DAYLIGHT
BEGIN:STANDARD
TZOFFSETFROM:+0200
TZOFFSETTO:+0100
TZNAME:CET
DTSTART:20241027T010000
END:STANDARD
BEGIN:DAYLIGHT
TZOFFSETFROM:+0100
TZOFFSETTO:+0200
TZNAME:CEST
DTSTART:20250330T010000
END:DAYLIGHT
BEGIN:STANDARD
TZOFFSETFROM:+0200
TZOFFSETTO:+0100
TZNAME:CET
DTSTART:20251026T010000
END:STANDARD
BEGIN:DAYLIGHT
TZOFFSETFROM:+0100
TZOFFSETTO:+0200
TZNAME:CEST
DTSTART:20260329T010000
END:DAYLIGHT
BEGIN:STANDARD
TZOFFSETFROM:+0200
TZOFFSETTO:+0100
TZNAME:CET
DTSTART:20261025T010000
END:STANDARD
END:VTIMEZONE
BEGIN:VEVENT
DTSTART;TZID=Europe/Ljubljana:20250823T073000
DTEND;TZID=Europe/Ljubljana:20250823T120000
DTSTAMP:20260420T041825
CREATED:20250702T081249Z
LAST-MODIFIED:20250702T081249Z
UID:820-1755934200-1755950400@jp-eds.si
SUMMARY:Jernejev sejem
DESCRIPTION:Veliki Jernejev sejem bo potekal v soboto\, 23. avgusta. Ob praznovanju 30 letnice Občine Šentjernej se bo na sejmu odvilo nekaj dogodkov\, predstavitev\, posebnih razstav in nastopov. \nZapišite si ta datum v koledar\, se vidimo!
URL:https://jp-eds.si/dogodek/jernejev-sejem-2/
LOCATION:Turopolje
CATEGORIES:druženje,izpostavljeno,kulinarika,nakupovanje,sejem,zabava
ATTACH;FMTTYPE=image/jpeg:https://jp-eds.si/wp-content/uploads/Sejem-avgust.jpg
END:VEVENT
END:VCALENDAR