BEGIN:VCALENDAR
VERSION:2.0
PRODID:-//JP EDŠ d.o.o. - ECPv6.15.20//NONSGML v1.0//EN
CALSCALE:GREGORIAN
METHOD:PUBLISH
X-WR-CALNAME:JP EDŠ d.o.o.
X-ORIGINAL-URL:https://jp-eds.si
X-WR-CALDESC:Dogodki za JP EDŠ d.o.o.
REFRESH-INTERVAL;VALUE=DURATION:PT1H
X-Robots-Tag:noindex
X-PUBLISHED-TTL:PT1H
BEGIN:VTIMEZONE
TZID:Europe/Ljubljana
BEGIN:DAYLIGHT
TZOFFSETFROM:+0100
TZOFFSETTO:+0200
TZNAME:CEST
DTSTART:20180325T010000
END:DAYLIGHT
BEGIN:STANDARD
TZOFFSETFROM:+0200
TZOFFSETTO:+0100
TZNAME:CET
DTSTART:20181028T010000
END:STANDARD
BEGIN:DAYLIGHT
TZOFFSETFROM:+0100
TZOFFSETTO:+0200
TZNAME:CEST
DTSTART:20190331T010000
END:DAYLIGHT
BEGIN:STANDARD
TZOFFSETFROM:+0200
TZOFFSETTO:+0100
TZNAME:CET
DTSTART:20191027T010000
END:STANDARD
BEGIN:DAYLIGHT
TZOFFSETFROM:+0100
TZOFFSETTO:+0200
TZNAME:CEST
DTSTART:20200329T010000
END:DAYLIGHT
BEGIN:STANDARD
TZOFFSETFROM:+0200
TZOFFSETTO:+0100
TZNAME:CET
DTSTART:20201025T010000
END:STANDARD
BEGIN:DAYLIGHT
TZOFFSETFROM:+0100
TZOFFSETTO:+0200
TZNAME:CEST
DTSTART:20210328T010000
END:DAYLIGHT
BEGIN:STANDARD
TZOFFSETFROM:+0200
TZOFFSETTO:+0100
TZNAME:CET
DTSTART:20211031T010000
END:STANDARD
BEGIN:DAYLIGHT
TZOFFSETFROM:+0100
TZOFFSETTO:+0200
TZNAME:CEST
DTSTART:20220327T010000
END:DAYLIGHT
BEGIN:STANDARD
TZOFFSETFROM:+0200
TZOFFSETTO:+0100
TZNAME:CET
DTSTART:20221030T010000
END:STANDARD
BEGIN:DAYLIGHT
TZOFFSETFROM:+0100
TZOFFSETTO:+0200
TZNAME:CEST
DTSTART:20230326T010000
END:DAYLIGHT
BEGIN:STANDARD
TZOFFSETFROM:+0200
TZOFFSETTO:+0100
TZNAME:CET
DTSTART:20231029T010000
END:STANDARD
BEGIN:DAYLIGHT
TZOFFSETFROM:+0100
TZOFFSETTO:+0200
TZNAME:CEST
DTSTART:20240331T010000
END:DAYLIGHT
BEGIN:STANDARD
TZOFFSETFROM:+0200
TZOFFSETTO:+0100
TZNAME:CET
DTSTART:20241027T010000
END:STANDARD
BEGIN:DAYLIGHT
TZOFFSETFROM:+0100
TZOFFSETTO:+0200
TZNAME:CEST
DTSTART:20250330T010000
END:DAYLIGHT
BEGIN:STANDARD
TZOFFSETFROM:+0200
TZOFFSETTO:+0100
TZNAME:CET
DTSTART:20251026T010000
END:STANDARD
BEGIN:DAYLIGHT
TZOFFSETFROM:+0100
TZOFFSETTO:+0200
TZNAME:CEST
DTSTART:20260329T010000
END:DAYLIGHT
BEGIN:STANDARD
TZOFFSETFROM:+0200
TZOFFSETTO:+0100
TZNAME:CET
DTSTART:20261025T010000
END:STANDARD
BEGIN:DAYLIGHT
TZOFFSETFROM:+0100
TZOFFSETTO:+0200
TZNAME:CEST
DTSTART:20270328T010000
END:DAYLIGHT
BEGIN:STANDARD
TZOFFSETFROM:+0200
TZOFFSETTO:+0100
TZNAME:CET
DTSTART:20271031T010000
END:STANDARD
END:VTIMEZONE
BEGIN:VEVENT
DTSTART;TZID=Europe/Ljubljana:20260411T080000
DTEND;TZID=Europe/Ljubljana:20260411T120000
DTSTAMP:20260421T120742
CREATED:20260120T114228Z
LAST-MODIFIED:20260120T114228Z
UID:898-1775894400-1775908800@jp-eds.si
SUMMARY:POMLADNI SEJEM
DESCRIPTION:Vabljeni na prvi sejem v letu 2026\, ki bo v soboto\, 11. aprila v dopoldanskem času. \nSejem bomo posvetili pomladnim opravilom\, sajenju\, presajanju\, urejanju okolja … \nSeveda pa ne bodo umanjkali stalni sejemski ponudniki suhe robe\, tekstila in obutve\, sveč\, sadja in zelenjave\, medu…
URL:https://jp-eds.si/dogodek/pomladni-sejem-2/
LOCATION:Turopolje
CATEGORIES:druženje,izpostavljeno,kulinarika,nakupovanje,sejem,zabava
ATTACH;FMTTYPE=image/png:https://jp-eds.si/wp-content/uploads/pomladni-sejem-FB-event-cover.png
END:VEVENT
BEGIN:VEVENT
DTSTART;TZID=Europe/Ljubljana:20250823T073000
DTEND;TZID=Europe/Ljubljana:20250823T120000
DTSTAMP:20260421T120742
CREATED:20250702T081249Z
LAST-MODIFIED:20250702T081249Z
UID:820-1755934200-1755950400@jp-eds.si
SUMMARY:Jernejev sejem
DESCRIPTION:Veliki Jernejev sejem bo potekal v soboto\, 23. avgusta. Ob praznovanju 30 letnice Občine Šentjernej se bo na sejmu odvilo nekaj dogodkov\, predstavitev\, posebnih razstav in nastopov. \nZapišite si ta datum v koledar\, se vidimo!
URL:https://jp-eds.si/dogodek/jernejev-sejem-2/
LOCATION:Turopolje
CATEGORIES:druženje,izpostavljeno,kulinarika,nakupovanje,sejem,zabava
ATTACH;FMTTYPE=image/jpeg:https://jp-eds.si/wp-content/uploads/Sejem-avgust.jpg
END:VEVENT
BEGIN:VEVENT
DTSTART;TZID=Europe/Ljubljana:20250706T120000
DTEND;TZID=Europe/Ljubljana:20250706T170000
DTSTAMP:20260421T120742
CREATED:20250702T080507Z
LAST-MODIFIED:20250702T080643Z
UID:813-1751803200-1751821200@jp-eds.si
SUMMARY:Kids Tour of Slovenia - tudi mi bomo zraven
DESCRIPTION:7. izvedba mednarodne kolesarske dirke za otroke – Kids tour of Slovenia bo v zadnji etapi potekala po občini Šentjernej. Organizator dirke je Kolesarski klub Adria Mobil. \nSodelujemo v pripravah za izvedbo dirke\, nudili bomo prostor ob in v Kulturnem centru Primoža Trubarja in pomagali ekipi do vrhunske izvedbe. \nZadnja – naša etapa bo potekala v nedeljo\, 6. julija. Vse informacije o dirki najdete na tej povezavi. \nPosebnos dneva je dirka za najmlajše v vzporednem programu. Organizirani bosta dve otroški dirki in sicer bo ena namenjena predšolskim otrokom\, druga pa otrokom do 5. razreda osnovne šole\, ki se bodo pomerili na 250 m dolgi progi. Start prve otroške dirke bo predvidoma ob 16:00 pred Kulturnim centrom Primoža Trubarja v Šentjerneju.Za udeležbo na dirki je pogoj\, da otroci pripeljejo s seboj svoja kolesa\, najmlajši lahko tudi poganjalčke\, obvezna pa je tudi zaščitna čelada. In\, kot običajno\, zmagovalci bodo – vsi! \nProstovoljci bodo ob koncu vsem udeležencem razdelili medalje. Zabavno bo! Prijavno mesto bo na dan dirke ustrezno označeno. \nVeselimo se srečanja z vami! Dobrodošli na Kids Tour of Slovenia!
URL:https://jp-eds.si/dogodek/kids-tour-of-slovenia-tudi-mi-bomo-zraven/
LOCATION:Kulturni center Primoža Trubarja\, Trubarjeva cesta 13\, Šentjernej\, Izberi regijo\, 8310\, Slovenia
CATEGORIES:druženje,Šport
ATTACH;FMTTYPE=image/jpeg:https://jp-eds.si/wp-content/uploads/Kids-tour-e1751443593834.jpg
END:VEVENT
BEGIN:VEVENT
DTSTART;TZID=Europe/Ljubljana:20250614T073000
DTEND;TZID=Europe/Ljubljana:20250614T120000
DTSTAMP:20260421T120742
CREATED:20250611T105914Z
LAST-MODIFIED:20250611T105914Z
UID:779-1749886200-1749902400@jp-eds.si
SUMMARY:Šentjernejski sejem
DESCRIPTION:Šentjernejski sejem vabi! \nSobota\, 14. junij 2025 v dopoldanskem času vabljeni na tradicionalni Šentjernejski sejem. \nStojična ponudba: \n\nsuha roba /košare\, metle\, kuhalnice\, deske za rezanje…\ntekstil / sezonska ponudba oblačil\, pižam\, nogavic\, klobukov…\nobutev / sandali\, natikači in delavska obutev…\nsadje in zelenjava / bogata ponudba sveže zelenjave in sadja\, poleg še orehi\, oreščki\, suho sadje…\nsveče / a veste\, da imajo sveče drugačno sestavo kot tiste\, ki se prodajajo pozimi?\ndobrote kmetic /mlinci\, rezanci\, kruh\, piškoti\, štrukljci…\ndobrote s kmetije / domača skuta\, maslo\, jajca\, med…\ndrobno orodje\, pripomočki\, ure\, zvončki\, kreme…\n\nV sodelovanju s Knjižnico Šentjernej vas vabimo\, da tudi vi doma poiščete še uporabne in delujoče stvari\, ki jih ne potrebujete več in jih prinesete na sejem. Na stojnici\, ki jo simbolno imenujemo IZMENJEVALNICA\, je prostor za otroško opremo in igrače\, knjige\, revije in stripe; prinesete lahko gospodinjske pripomočke\, lončke\, posodo ali pekače ter vse kar se vam zdi vredno\, da dobi novo priložnost za uporabo. \nZa slastno in osvežilno ponudbo bodo poskrbeli v Oštariji pri krači\, poskrbeli bodo tudi za vzdušje\, saj bodo na terasi zaigrali Jadranski maestrali! \nVljudno vabljeni!
URL:https://jp-eds.si/dogodek/sentjernejski-sejem-6/
LOCATION:Turopolje
CATEGORIES:druženje,izpostavljeno,nakupovanje,sejem,zabava
ATTACH;FMTTYPE=image/png:https://jp-eds.si/wp-content/uploads/sejem-junij.png
END:VEVENT
BEGIN:VEVENT
DTSTART;TZID=Europe/Ljubljana:20250501T110000
DTEND;TZID=Europe/Ljubljana:20250501T170000
DTSTAMP:20260421T120742
CREATED:20250425T064434Z
LAST-MODIFIED:20250425T064527Z
UID:767-1746097200-1746118800@jp-eds.si
SUMMARY:Praznik dela - Javorovica
DESCRIPTION:Občina Šentjernej vabi na praznovanje 1. maja na Javorovico. \nSlavnostni govornik bo predsednik Državnega sveta RS Marko Lotrič. \nProslava v počastitev praznika dela s kulturnim programom bo 1. maja 2025\, ob 11. uri. \nNastopil bo tudi Pihalni orkester Občine Šentjernej\, ki bo v praznično jutro občanke in občane prebudil s tradicionalno budnico. \nZa zabavo in dobro razpoloženje bo poskrbel ANSAMBEL POGUM. \n  \nPri ureditvi prireditvenega prostora in pri izvedbi prireditve sodeluje tudi naše podjetje\, zato se vabilu za udeležbo na praznovanju pridružujemo tudi mi! Več informacij na spletni strani Občine Šentjernej.
URL:https://jp-eds.si/dogodek/praznik-dela-javorovica/
CATEGORIES:druženje,izpostavljeno,kulinarika,slovesnost,zabava,zdravje
ATTACH;FMTTYPE=image/jpeg:https://jp-eds.si/wp-content/uploads/prvi-maj.jpg
ORGANIZER;CN="Ob%C4%8Dina %C5%A0entjernej":MAILTO:obcina.sentjernej@sentjernej.si
END:VEVENT
BEGIN:VEVENT
DTSTART;TZID=Europe/Ljubljana:20250412T080000
DTEND;TZID=Europe/Ljubljana:20250412T123000
DTSTAMP:20260421T120742
CREATED:20250402T104718Z
LAST-MODIFIED:20250402T104718Z
UID:736-1744444800-1744461000@jp-eds.si
SUMMARY:POMLADNI SEJEM
DESCRIPTION:Šentjernejski sejem ima več kot sto letno tradicijo\, kjer se je na svojevrsten način ohranjajo trgovanje. \nSeveda je sejem tudi priložnost druženja in klepeta\, nakupi se nujne stvari in spije kakšen kozarček. \nPrvi letošnji veliki POMLADNO – VELIKONOČNI SEJEM bo v soboto\, 12. 4. 2025 v dopoldanskem času. \nZa pravo sejemsko vzdušje bosta poskrbela Dolenjska fanta\, zapeli bodo člani mešanega pevskega zbora Društva upokojencev Šentjernej\, predstavili pa se bodo tudi mladi glasbeniki družine Frančič. Za otroke pripravljamo velikonočno delavnico. \nVljudno vabljeni tudi k sodelovanju v izmenjevalnici\, ki jo pripravljamo skupaj s Knjižnico Mirana Jarca Novo mesto – oddelek Šentjernej. \nPomad je tudi čas za prevetritev doma. V duhu recikliranja in ponovne uporabe\, bomo v sodelovanju s Knjižnico Šentjernej in domačimi skavti izvedli prvo »izmenjevalnico«. Želimo spodbuditi vse občane in druge obiskovalce\, da ob tej priložnosti zamenjajo predmete iz gospodinjstva\, ki so še uporabni\, čisti in delujoči. Na tak način bomo skupaj prispevali kamenček v mozaiku zdravega in lepega planeta. \nKAJ VSE PRIDE V POŠTEV? \nZavoljo ohranitve reda\, vas prosimo\, da na sejemsko izmenjevalnico prinesete le reči\, ki jih želite podariti\, oddati ali zamenjati. Mednje sodijo lahko: igrače\, otroška oprema ter oprema za dom in gospodinjstvo\, modni dodatki\, knjige\, revije\, oprema za hišne ljubljenčke\, sadike in semena ter ostali uporabni predmeti doma. Prinesene predmete bomo pregledali – ti morajo biti oprani/očiščeni in lepo ohranjeni\, v nasprotnem primeru jih bomo zavrnili. Zaželeno je\, da nekaj prinesete in ravno tako tudi odnesete. V zadnji uri bo mogoče stvari odnesti tudi brez izmenjave. \nProsimo\, da v izmenjevalnico ne nosite oblačil in obutve\, večjih kosov za opremo doma in predmetov\, ki so potrebni popravila. Vse to bomo morali zavrniti. \nSejem bo živ\, vabljeni\, da se ga udeležite! \nVstopnine ni!
URL:https://jp-eds.si/dogodek/pomladni-sejem/
CATEGORIES:druženje,izpostavljeno,kulinarika,nakupovanje,sejem,zabava
ATTACH;FMTTYPE=image/jpeg:https://jp-eds.si/wp-content/uploads/Sejem-CL-5.jpg
END:VEVENT
BEGIN:VEVENT
DTSTART;TZID=Europe/Ljubljana:20230722T070000
DTEND;TZID=Europe/Ljubljana:20230722T133000
DTSTAMP:20260421T120742
CREATED:20230719T093809Z
LAST-MODIFIED:20241018T123307Z
UID:495-1690009200-1690032600@jp-eds.si
SUMMARY:Vabljeni na Šentjernejski sejem to soboto
DESCRIPTION:Pestra ponudba potrebščin za dom in vrt\, sadje\, suha roba\, hrana in pijača
URL:https://jp-eds.si/dogodek/vabljeni-na-sentjernejski-sejem-to-soboto/
LOCATION:Turopolje
ATTACH;FMTTYPE=image/jpeg:https://jp-eds.si/wp-content/uploads/Izdelek-brez-naslova-15-300x89-1.jpg
END:VEVENT
BEGIN:VEVENT
DTSTART;TZID=Europe/Ljubljana:20210227T080000
DTEND;TZID=Europe/Ljubljana:20210227T120000
DTSTAMP:20260421T120742
CREATED:20210223T192406Z
LAST-MODIFIED:20210223T192406Z
UID:494-1614412800-1614427200@jp-eds.si
SUMMARY:Šentjernejski sejem
DESCRIPTION:Z veseljem vam sporočamo\, da se zopet vidimo na sejmu dne 27.02.2021. \nPozivamo tako prodajalce\, kot obiskovalce\, da upoštevajo vsa higienska priporočila ministrstva pristojnega za zdravje in NIJZ za preprečevanje okužbe z virusom SARS-CoV-2.\, ki so objavljena na spletni strani ministrstva in NIJZ. \nVljudno vabljeni!
URL:https://jp-eds.si/dogodek/sentjernejski-sejem-feb-21/
ATTACH;FMTTYPE=image/jpeg:https://jp-eds.si/wp-content/uploads/Izdelek-brez-naslova-15-1.jpg
END:VEVENT
BEGIN:VEVENT
DTSTART;TZID=Europe/Ljubljana:20200926T080000
DTEND;TZID=Europe/Ljubljana:20200926T120000
DTSTAMP:20260421T120742
CREATED:20200925T180746Z
LAST-MODIFIED:20200925T180746Z
UID:493-1601107200-1601121600@jp-eds.si
SUMMARY:Šentjernejski sejem
DESCRIPTION:Redni sejem.
URL:https://jp-eds.si/dogodek/sentjernejski-sejem-sept-20-2/
ATTACH;FMTTYPE=image/jpeg:https://jp-eds.si/wp-content/uploads/Izdelek-brez-naslova-15-1.jpg
END:VEVENT
BEGIN:VEVENT
DTSTART;TZID=Europe/Ljubljana:20200912T080000
DTEND;TZID=Europe/Ljubljana:20200912T120000
DTSTAMP:20260421T120742
CREATED:20200909T174923Z
LAST-MODIFIED:20200909T174923Z
UID:492-1599897600-1599912000@jp-eds.si
SUMMARY:Šentjernejski sejem
DESCRIPTION:Redni sejem. \nŠentjernejski sejem bo ponovno zasijal v vsej svoji veličini.\nA ni že čas za novo kuhalnico ali košaro\, poiščite kvalitetne nogavice\, ugodne kape in klobuke ter ostali tekstil; za želodčke poskrbi stojnica z medom\, mesninami\, mlečnimi izdelki… \nVljudno vabljeni!
URL:https://jp-eds.si/dogodek/sentjernejski-sejem-sept-20-1/
ATTACH;FMTTYPE=image/jpeg:https://jp-eds.si/wp-content/uploads/Izdelek-brez-naslova-15-1.jpg
END:VEVENT
BEGIN:VEVENT
DTSTART;TZID=Europe/Ljubljana:20200822T080000
DTEND;TZID=Europe/Ljubljana:20200822T120000
DTSTAMP:20260421T120742
CREATED:20200810T090852Z
LAST-MODIFIED:20200810T090852Z
UID:491-1598083200-1598097600@jp-eds.si
SUMMARY:Jernejev sejem
DESCRIPTION:Vabljeni na Jernejev sejem to soboto\, 22. avgusta\, ko Šentjernej obeležuje občinski praznik. \nZačnemo ob 8. uri. \nVstop je prost.
URL:https://jp-eds.si/dogodek/jernejev-sejem-2020/
ATTACH;FMTTYPE=image/jpeg:https://jp-eds.si/wp-content/uploads/FB_IMG_1598009492497.jpg
END:VEVENT
BEGIN:VEVENT
DTSTART;TZID=Europe/Ljubljana:20200808T080000
DTEND;TZID=Europe/Ljubljana:20200808T120000
DTSTAMP:20260421T120742
CREATED:20200803T050423Z
LAST-MODIFIED:20200803T050423Z
UID:490-1596873600-1596888000@jp-eds.si
SUMMARY:Šentjernejski sejem
DESCRIPTION:Z veseljem vam sporočamo\, da se zopet vidimo na šentjernejskem sejmu od 08.08.2020 dalje (vsako 2. in 4. soboto v mesecu). V kolikor bodo kakršne koli spremembe s strani NIJZ-ja oziroma vlade RS\, vas naknadno obvestimo. Veselimo se vašega obiska. \nVabljeni! \nVstop prost. \nDa na dogodek ne pozabite\, potrdite prisotnost na FB dogodku\, ki ga najdete na naši strani. Povezavo najdete TUKAJ.
URL:https://jp-eds.si/dogodek/sentjernejski-sejem-avgust-2020-1/
ATTACH;FMTTYPE=image/jpeg:https://jp-eds.si/wp-content/uploads/Izdelek-brez-naslova-15-1.jpg
END:VEVENT
BEGIN:VEVENT
DTSTART;TZID=Europe/Ljubljana:20200627T080000
DTEND;TZID=Europe/Ljubljana:20200627T170000
DTSTAMP:20260421T120742
CREATED:20200608T125047Z
LAST-MODIFIED:20200608T125047Z
UID:489-1593244800-1593277200@jp-eds.si
SUMMARY:Šentjernejski sejem
DESCRIPTION:Vljudno vabljeni na Šentjernejski sejem. \nČaka vas bogata ponudba :\norodja | suhe robe | tekstila in obutve | sveč | mesnin in mlečnih izdelkov | okusna gostinska ponudba \nLuštno bo. \n*Obiskovalce prosimo\, da upoštevajo priporočila NIJZ. Živinski del sejma v juniju 2020 ne bo odprt.
URL:https://jp-eds.si/dogodek/sentjernejski-sejem-junij-2020-2/
ATTACH;FMTTYPE=image/jpeg:https://jp-eds.si/wp-content/uploads/Izdelek-brez-naslova-15-1.jpg
END:VEVENT
BEGIN:VEVENT
DTSTART;TZID=Europe/Ljubljana:20200613T080000
DTEND;TZID=Europe/Ljubljana:20200613T120000
DTSTAMP:20260421T120742
CREATED:20200608T124706Z
LAST-MODIFIED:20200608T124706Z
UID:488-1592035200-1592049600@jp-eds.si
SUMMARY:Šentjernejski sejem
DESCRIPTION:Vljudno vabljeni na Šentjernejski sejem. \nČaka vas bogata ponudba :\norodja | suhe robe | tekstila in obutve | sveč | mesnin in mlečnih izdelkov | okusna gostinska ponudba \nLuštno bo. \n*Obiskovalce prosimo\, da upoštevajo priporočila NIJZ. Živinski del sejma v juniju 2020 ne bo odprt.
URL:https://jp-eds.si/dogodek/sentjernejski-sejem-junij-2020-1/
ATTACH;FMTTYPE=image/jpeg:https://jp-eds.si/wp-content/uploads/Izdelek-brez-naslova-15-1.jpg
END:VEVENT
BEGIN:VEVENT
DTSTART;TZID=Europe/Ljubljana:20200523T080000
DTEND;TZID=Europe/Ljubljana:20200523T120000
DTSTAMP:20260421T120742
CREATED:20200518T064127Z
LAST-MODIFIED:20200518T064127Z
UID:487-1590220800-1590235200@jp-eds.si
SUMMARY:Šentjernejski sejem
DESCRIPTION:ŠENTJERNEJSKI SEJEM to soboto\, 23. maja BO! \nNe zamudite:\n✅ bogate stojnične ponudbe orodja\,\n✅ kmetijska oprema\n✅ mesnine\n✅ med\n✅ sadike rož\, drevja in trt\n✅ sveče\n✅ suha roba… \nZa okusno gostinsko ponudbo bo poskrbela Gostilna Selak. \nZa prijetno sejemsko vzdušje pa bodo poskrbeli harmonikarji Janeza Lekšeta. \nŽivinskega dela sejma tokrat (še) ne bo! \nSe vidimo.
URL:https://jp-eds.si/dogodek/sentjernejski-sejem-maj-2020/
ATTACH;FMTTYPE=image/jpeg:https://jp-eds.si/wp-content/uploads/Izdelek-brez-naslova-15-1.jpg
END:VEVENT
BEGIN:VEVENT
DTSTART;TZID=Europe/Ljubljana:20200314T080000
DTEND;TZID=Europe/Ljubljana:20200314T120000
DTSTAMP:20260421T120742
CREATED:20200310T133008Z
LAST-MODIFIED:20241018T123307Z
UID:485-1584172800-1584187200@jp-eds.si
SUMMARY:Šentjernejski sejem - ODPOVEDANO!
DESCRIPTION:  \n  \n*** \n  \nRedni sejem / Vstop prost! \n  \nGostinstvo: Oštarija pri Selaku
URL:https://jp-eds.si/dogodek/sentjernejski-sejem-marec-2020-1/
ATTACH;FMTTYPE=image/jpeg:https://jp-eds.si/wp-content/uploads/Izdelek-brez-naslova-15-1.jpg
END:VEVENT
BEGIN:VEVENT
DTSTART;TZID=Europe/Ljubljana:20200222T080000
DTEND;TZID=Europe/Ljubljana:20200222T120000
DTSTAMP:20260421T120742
CREATED:20200207T170711Z
LAST-MODIFIED:20200207T170711Z
UID:484-1582358400-1582372800@jp-eds.si
SUMMARY:Šentjernejski sejem
DESCRIPTION:Vstop prost.
URL:https://jp-eds.si/dogodek/sentjernejski-sejem-feb-2020/
ATTACH;FMTTYPE=image/jpeg:https://jp-eds.si/wp-content/uploads/Izdelek-brez-naslova-15-1.jpg
END:VEVENT
BEGIN:VEVENT
DTSTART;TZID=Europe/Ljubljana:20200125T080000
DTEND;TZID=Europe/Ljubljana:20200125T120000
DTSTAMP:20260421T120742
CREATED:20191219T170717Z
LAST-MODIFIED:20241018T123307Z
UID:482-1579939200-1579953600@jp-eds.si
SUMMARY:Šentjernejski sejem - izmenjava rabljene smučarske opreme
DESCRIPTION:Poleg bogate sejemske ponudbe še izmenjava rabljene smučarske opreme. \nProst vstop.
URL:https://jp-eds.si/dogodek/sentjernejski-sejem-januar-drugi/
ATTACH;FMTTYPE=image/jpeg:https://jp-eds.si/wp-content/uploads/Kopija-izdelka-zbudi-se-ribica-naslovka-1-scaled-1.jpg
END:VEVENT
BEGIN:VEVENT
DTSTART;TZID=Europe/Ljubljana:20200111T080000
DTEND;TZID=Europe/Ljubljana:20200111T120000
DTSTAMP:20260421T120742
CREATED:20191219T170228Z
LAST-MODIFIED:20191219T170228Z
UID:481-1578729600-1578744000@jp-eds.si
SUMMARY:Šentjernejski sejem
DESCRIPTION:Redni sejem \n  \nBogata ponudba suhe robe\, orodja\, medu\, sveč\, tekstila in obutve – za vsakega nekaj. \nVabljeni! Prost vstop.
URL:https://jp-eds.si/dogodek/sentjernejski-sejem-redni-januar/
ATTACH;FMTTYPE=image/png:https://jp-eds.si/wp-content/uploads/fb-dogodek.png
END:VEVENT
BEGIN:VEVENT
DTSTART;TZID=Europe/Ljubljana:20191228T080000
DTEND;TZID=Europe/Ljubljana:20191228T120000
DTSTAMP:20260421T120742
CREATED:20191219T165531Z
LAST-MODIFIED:20191219T165531Z
UID:480-1577520000-1577534400@jp-eds.si
SUMMARY:Božično novoletni sejem
DESCRIPTION:Prost vstop.
URL:https://jp-eds.si/dogodek/bozicno-novoletni-sejem-december/
ATTACH;FMTTYPE=image/jpeg:https://jp-eds.si/wp-content/uploads/BANNER_BozicniSejem_FB.jpg
END:VEVENT
BEGIN:VEVENT
DTSTART;TZID=Europe/Ljubljana:20191214T080000
DTEND;TZID=Europe/Ljubljana:20191214T120000
DTSTAMP:20260421T120742
CREATED:20191126T154316Z
LAST-MODIFIED:20191126T154316Z
UID:479-1576310400-1576324800@jp-eds.si
SUMMARY:Prednovoletni sejem
DESCRIPTION:V soboto\, 14. decembra lepo vabljeni na prednovoletni sejem v Šentjernej.\nDogajanje bo pestro\, idej za daril še več\, pogreli pa se boste lahko tudi ob kakšnem čaju ali kuhanem vinu. Vabljeni! \nUporabniki Facebooka se lahko ‘pofočkate’ na FB dogodku sejma. \n 
URL:https://jp-eds.si/dogodek/prednovoletni-sejem/
ATTACH;FMTTYPE=image/jpeg:https://jp-eds.si/wp-content/uploads/prednovoletni-sejemjpg.jpg
END:VEVENT
BEGIN:VEVENT
DTSTART;TZID=Europe/Ljubljana:20191123T080000
DTEND;TZID=Europe/Ljubljana:20191123T120000
DTSTAMP:20260421T120742
CREATED:20191104T084419Z
LAST-MODIFIED:20241018T123306Z
UID:477-1574496000-1574510400@jp-eds.si
SUMMARY:Eko sejem
DESCRIPTION:V soboto\, 23. 11.\, ne zamudite Eko sejma in poleg stalne ponudbe še pestro dogajanje. \nObiskal nas bo tudi street food truck MARTINovu Kuhanu na koles’h. Več: TUKAJ.
URL:https://jp-eds.si/dogodek/sentjernejski-sejem-eko/
ATTACH;FMTTYPE=image/jpeg:https://jp-eds.si/wp-content/uploads/sejem-2311.jpg
END:VEVENT
BEGIN:VEVENT
DTSTART;TZID=Europe/Ljubljana:20191109T080000
DTEND;TZID=Europe/Ljubljana:20191109T120000
DTSTAMP:20260421T120742
CREATED:20191104T084323Z
LAST-MODIFIED:20191104T084323Z
UID:476-1573286400-1573300800@jp-eds.si
SUMMARY:Šentjernejski sejem
DESCRIPTION:
URL:https://jp-eds.si/dogodek/sentjernejski-sejem-5/
END:VEVENT
BEGIN:VEVENT
DTSTART;TZID=Europe/Ljubljana:20191026T080000
DTEND;TZID=Europe/Ljubljana:20191026T120000
DTSTAMP:20260421T120742
CREATED:20190926T114755Z
LAST-MODIFIED:20190926T114755Z
UID:474-1572076800-1572091200@jp-eds.si
SUMMARY:Šentjernejski sejem: KOSTANJ IN MLADO VINO
DESCRIPTION:Tematika tokratnega sejma: kostanj in mlado vino. Ne zamudite!
URL:https://jp-eds.si/dogodek/sentjernejski-sejem-kostanj-in-mlado-vino/
END:VEVENT
BEGIN:VEVENT
DTSTART;TZID=Europe/Ljubljana:20191012T080000
DTEND;TZID=Europe/Ljubljana:20191012T120000
DTSTAMP:20260421T120742
CREATED:20191001T064205Z
LAST-MODIFIED:20191001T064205Z
UID:475-1570867200-1570881600@jp-eds.si
SUMMARY:Šentjernejski sejem - redni
DESCRIPTION:
URL:https://jp-eds.si/dogodek/sentjernejski-sejem-redni-4/
END:VEVENT
BEGIN:VEVENT
DTSTART;TZID=Europe/Ljubljana:20190928T080000
DTEND;TZID=Europe/Ljubljana:20190928T120000
DTSTAMP:20260421T120742
CREATED:20190924T094756Z
LAST-MODIFIED:20241018T123306Z
UID:472-1569657600-1569672000@jp-eds.si
SUMMARY:Šentjernejski sejem
DESCRIPTION:
URL:https://jp-eds.si/dogodek/sentjernejski-sejem-4/
ATTACH;FMTTYPE=image/jpeg:https://jp-eds.si/wp-content/uploads/predstavitev-paintballa-Paintball-Darksun-Matej-Grubar.jpg
END:VEVENT
BEGIN:VEVENT
DTSTART;TZID=Europe/Ljubljana:20190914T080000
DTEND;TZID=Europe/Ljubljana:20190914T120000
DTSTAMP:20260421T120742
CREATED:20190829T095027Z
LAST-MODIFIED:20241018T123306Z
UID:470-1568448000-1568462400@jp-eds.si
SUMMARY:Šentjernejski sejem - delovni prikaz konj in licitacija
DESCRIPTION:Predstavilo se bo društvo Združenje rejcev konj slovenske hladnokrvne pasme. Na sejmiščnem prostoru bo potekal delovni prikaz konj (vodenje konj\, vleka hlodov…)\, sledila bo licitacija konj. Seveda ne bo izostala redna sejemska ponudba (suha roba\, oblačila\, obutev\, posteljnina\, sveče\, med\, suhe mesnine\, bučno olje\, domači mlečni izdelki…) \n  \nVse najnovejše informacije o dogodku spremljajte tudi na našem FB dogodku. Da ne zamudite nobene naše objave\, se pofočkajte TUKAJ.
URL:https://jp-eds.si/dogodek/sentjernejski-sejem-delovni-prikaz-konj-in-licitacija/
ATTACH;FMTTYPE=image/png:https://jp-eds.si/wp-content/uploads/69343232_2387017531565202_6336044954602700800_o.png
END:VEVENT
BEGIN:VEVENT
DTSTART;TZID=Europe/Ljubljana:20190824T080000
DTEND;TZID=Europe/Ljubljana:20190824T120000
DTSTAMP:20260421T120742
CREATED:20190807T063656Z
LAST-MODIFIED:20190807T063656Z
UID:469-1566633600-1566648000@jp-eds.si
SUMMARY:Jernejev sejem
DESCRIPTION:Na naslednjem Šentjernejskem sejmu bo zelo\, zelo pestro. Vljudno vabljeni! \nPaintball – Matej Grubar\nOtroški živ žav – TD Šentjernej\nMini Planica\nKuhanje županovega golaža – Konjeniški klub Šentjernej \nNe zamudite: https://www.facebook.com/events/466885220562187/
URL:https://jp-eds.si/dogodek/jernejev-sejem/
ATTACH;FMTTYPE=image/jpeg:https://jp-eds.si/wp-content/uploads/68275016_2373430909590531_3048788573789618176_n.jpg
END:VEVENT
BEGIN:VEVENT
DTSTART;TZID=Europe/Ljubljana:20190810T080000
DTEND;TZID=Europe/Ljubljana:20190810T120000
DTSTAMP:20260421T120742
CREATED:20190807T063542Z
LAST-MODIFIED:20190807T063542Z
UID:468-1565424000-1565438400@jp-eds.si
SUMMARY:Šentjernejski sejem – redni
DESCRIPTION:
URL:https://jp-eds.si/dogodek/sentjernejski-sejem-redni-3/
END:VEVENT
BEGIN:VEVENT
DTSTART;TZID=Europe/Ljubljana:20190727T080000
DTEND;TZID=Europe/Ljubljana:20190727T120000
DTSTAMP:20260421T120742
CREATED:20190626T071117Z
LAST-MODIFIED:20190626T071117Z
UID:467-1564214400-1564228800@jp-eds.si
SUMMARY:Šentjernejski sejem - redni
DESCRIPTION:Vabljeni na redni sejem.
URL:https://jp-eds.si/dogodek/sentjernejski-sejem-redni-2/
END:VEVENT
END:VCALENDAR